BEGIN:VCALENDAR
VERSION:2.0
PRODID:-//Stirling Carers Centre - ECPv6.15.10//NONSGML v1.0//EN
CALSCALE:GREGORIAN
METHOD:PUBLISH
X-ORIGINAL-URL:https://stirlingcarers.org.uk
X-WR-CALDESC:Events for Stirling Carers Centre
REFRESH-INTERVAL;VALUE=DURATION:PT1H
X-Robots-Tag:noindex
X-PUBLISHED-TTL:PT1H
BEGIN:VTIMEZONE
TZID:Europe/London
BEGIN:DAYLIGHT
TZOFFSETFROM:+0000
TZOFFSETTO:+0100
TZNAME:BST
DTSTART:20220327T010000
END:DAYLIGHT
BEGIN:STANDARD
TZOFFSETFROM:+0100
TZOFFSETTO:+0000
TZNAME:GMT
DTSTART:20221030T010000
END:STANDARD
BEGIN:DAYLIGHT
TZOFFSETFROM:+0000
TZOFFSETTO:+0100
TZNAME:BST
DTSTART:20230326T010000
END:DAYLIGHT
BEGIN:STANDARD
TZOFFSETFROM:+0100
TZOFFSETTO:+0000
TZNAME:GMT
DTSTART:20231029T010000
END:STANDARD
BEGIN:DAYLIGHT
TZOFFSETFROM:+0000
TZOFFSETTO:+0100
TZNAME:BST
DTSTART:20240331T010000
END:DAYLIGHT
BEGIN:STANDARD
TZOFFSETFROM:+0100
TZOFFSETTO:+0000
TZNAME:GMT
DTSTART:20241027T010000
END:STANDARD
END:VTIMEZONE
BEGIN:VEVENT
DTSTART;TZID=Europe/London:20230928T180000
DTEND;TZID=Europe/London:20230928T200000
DTSTAMP:20260424T052336
CREATED:20240721T210319Z
LAST-MODIFIED:20240721T210319Z
UID:10000041-1695924000-1695931200@stirlingcarers.org.uk
SUMMARY:My Time – Pamper Session
DESCRIPTION:Ruby’s Nail Bar will be at our October My Time session. Come along for an evening of pampering. Light refreshments provided.Registering for this event does not guarantee a place. A member of our team will be in touch to confirm if a place is available.\nPlease note: All our events are for unpaid Carers registered with Stirling Carers Centre. If you are a Carer and not yet registered with the Centre\, please contact us on 01786 447003.
URL:https://stirlingcarers.org.uk/whats-on/my-time-pamper-session/
CATEGORIES:Adult Carer Events,Young Adult Carer Events
ATTACH;FMTTYPE=image/png:https://stirlingcarers.org.uk/wp-content/uploads/2024/07/Last-Thursday-of-the-month-6-8pm-VJm4Mn.tmp_.png
END:VEVENT
BEGIN:VEVENT
DTSTART;TZID=Europe/London:20230831T100000
DTEND;TZID=Europe/London:20230831T123000
DTSTAMP:20260424T052336
CREATED:20240721T210321Z
LAST-MODIFIED:20240721T210321Z
UID:10000043-1693476000-1693485000@stirlingcarers.org.uk
SUMMARY:Stirling Carers’ Voice – CANCELLED
DESCRIPTION:Stirling Carers’ Voice is the local forum for Carers to meet with professionals and decision-makers to hear about proposals\, feed into consultations\, and get across the point of view of Carers at both a local and national level.The forum is open to Carers and former Carers aged 18+. You don’t need any experience or skills\, just an understanding of what it means to be a Carer and ideas on how to make things better. We’d love to see you there.\nNext Meeting:\nThursday 31st August\, 10am-12.30pm CANCELLED
URL:https://stirlingcarers.org.uk/whats-on/stirling-carers-voice-cancelled/
CATEGORIES:Adult Carer Events,Former Carer Events,Parent Carer Events,Professionals Events,Young Adult Carer Events
ATTACH;FMTTYPE=image/png:https://stirlingcarers.org.uk/wp-content/uploads/2024/07/Carers-Voice-Pc7PyC.tmp_.png
END:VEVENT
BEGIN:VEVENT
DTSTART;TZID=Europe/London:20230822T090000
DTEND;TZID=Europe/London:20230822T160000
DTSTAMP:20260424T052336
CREATED:20240721T210120Z
LAST-MODIFIED:20240721T210120Z
UID:10000040-1692694800-1692720000@stirlingcarers.org.uk
SUMMARY:V&A Museum Trip
DESCRIPTION:We’re off to Dundee to visit the V&A Museum and tour the Tartan Exhibition. Transport from Stirling and lunch included\, and you are welcome to bring along the person you care for. Please register the number of places you require.Meet at Forthside Car Park (by Vue cinema) at 9 am for bus pick up\, returning at 4 pm.\nPlease note: All our events are for unpaid Carers registered with Stirling Carers Centre. If you are a Carer and not yet registered with the Centre\, please contact us on 01786 447003. If you have any concerns about the suitability of this trip for the person that you care for\, please contact Beth at the Centre.
URL:https://stirlingcarers.org.uk/whats-on/va-museum-trip/
CATEGORIES:Adult Carer Events
END:VEVENT
BEGIN:VEVENT
DTSTART;TZID=Europe/London:20230703T131500
DTEND;TZID=Europe/London:20230703T140000
DTSTAMP:20260424T052336
CREATED:20240721T210323Z
LAST-MODIFIED:20240721T210323Z
UID:10000045-1688390100-1688392800@stirlingcarers.org.uk
SUMMARY:Stirling/Online Yoga
DESCRIPTION:The Yoga Tree in Stirling offers free yoga and relaxation sessions to anyone currently in a caring role. The sessions take place every Monday afternoon\, either in person at The Yoga Tree in King Street\, Stirling\, or on Zoom.Book to attend
URL:https://stirlingcarers.org.uk/whats-on/stirling-online-yoga-2/
CATEGORIES:Adult Carer Events,Young Adult Carer Events
ATTACH;FMTTYPE=image/png:https://stirlingcarers.org.uk/wp-content/uploads/2024/07/Stirling-yoga-Facebook-Event-Cover-VN9y2L.tmp_.png
END:VEVENT
END:VCALENDAR