BEGIN:VCALENDAR
VERSION:2.0
PRODID:-//Stirling Carers Centre - ECPv6.15.10//NONSGML v1.0//EN
CALSCALE:GREGORIAN
METHOD:PUBLISH
X-WR-CALNAME:Stirling Carers Centre
X-ORIGINAL-URL:https://stirlingcarers.org.uk
X-WR-CALDESC:Events for Stirling Carers Centre
REFRESH-INTERVAL;VALUE=DURATION:PT1H
X-Robots-Tag:noindex
X-PUBLISHED-TTL:PT1H
BEGIN:VTIMEZONE
TZID:Europe/London
BEGIN:DAYLIGHT
TZOFFSETFROM:+0000
TZOFFSETTO:+0100
TZNAME:BST
DTSTART:20220327T010000
END:DAYLIGHT
BEGIN:STANDARD
TZOFFSETFROM:+0100
TZOFFSETTO:+0000
TZNAME:GMT
DTSTART:20221030T010000
END:STANDARD
BEGIN:DAYLIGHT
TZOFFSETFROM:+0000
TZOFFSETTO:+0100
TZNAME:BST
DTSTART:20230326T010000
END:DAYLIGHT
BEGIN:STANDARD
TZOFFSETFROM:+0100
TZOFFSETTO:+0000
TZNAME:GMT
DTSTART:20231029T010000
END:STANDARD
BEGIN:DAYLIGHT
TZOFFSETFROM:+0000
TZOFFSETTO:+0100
TZNAME:BST
DTSTART:20240331T010000
END:DAYLIGHT
BEGIN:STANDARD
TZOFFSETFROM:+0100
TZOFFSETTO:+0000
TZNAME:GMT
DTSTART:20241027T010000
END:STANDARD
BEGIN:DAYLIGHT
TZOFFSETFROM:+0000
TZOFFSETTO:+0100
TZNAME:BST
DTSTART:20250330T010000
END:DAYLIGHT
BEGIN:STANDARD
TZOFFSETFROM:+0100
TZOFFSETTO:+0000
TZNAME:GMT
DTSTART:20251026T010000
END:STANDARD
END:VTIMEZONE
BEGIN:VEVENT
DTSTART;TZID=Europe/London:20240611T130000
DTEND;TZID=Europe/London:20240611T150000
DTSTAMP:20260424T033514
CREATED:20240721T205515Z
LAST-MODIFIED:20240721T205515Z
UID:10000014-1718110800-1718118000@stirlingcarers.org.uk
SUMMARY:CARERS WEEK: Male Carers Group Lunch
DESCRIPTION:Join us for lunch at the Birds & Bees Restaurant in Stirling. Open to male Carers aged 17+.Please note: All our events are for unpaid Carers registered with Stirling Carers Centre. If you are a Carer and not yet registered with the Centre\, please contact us on 01786 447003.
URL:https://stirlingcarers.org.uk/whats-on/carers-week-male-carers-group-lunch/
CATEGORIES:Adult Carer Events,Parent Carer Events,Young Adult Carer Events
ATTACH;FMTTYPE=image/png:https://stirlingcarers.org.uk/wp-content/uploads/2024/07/Carers-Week-white-oval-bg-Kf0j3q.tmp_.png
END:VEVENT
BEGIN:VEVENT
DTSTART;TZID=Europe/London:20240610T103000
DTEND;TZID=Europe/London:20240610T120000
DTSTAMP:20260424T033514
CREATED:20240721T205715Z
LAST-MODIFIED:20240721T205715Z
UID:10000021-1718015400-1718020800@stirlingcarers.org.uk
SUMMARY:CARERS WEEK: CHAT – Carers’ Rights
DESCRIPTION:Come along to the first of our Carers Week special CHAT (Carer Health & Training) sessions to hear from Coalition of Carers about your rights as a Carer. You’re welcome to bring along the person you care for if that makes it easier for you to attend – please book a space for each attendee.Please note: All our events are for unpaid Carers registered with Stirling Carers Centre. If you are a Carer and not yet registered with the Centre\, please contact us on 01786 447003.
URL:https://stirlingcarers.org.uk/whats-on/carers-week-chat-carers-rights/
CATEGORIES:Adult Carer Events,Parent Carer Events,Young Adult Carer Events
ATTACH;FMTTYPE=image/png:https://stirlingcarers.org.uk/wp-content/uploads/2024/07/Carers-Week-white-oval-bg-Kf0j3q.tmp_.png
END:VEVENT
BEGIN:VEVENT
DTSTART;TZID=Europe/London:20240605T140000
DTEND;TZID=Europe/London:20240605T160000
DTSTAMP:20260424T033514
CREATED:20240721T205500Z
LAST-MODIFIED:20240721T205500Z
UID:10000009-1717596000-1717603200@stirlingcarers.org.uk
SUMMARY:Male Carers Group – Axe Throwing
DESCRIPTION:For our June Male Carers group we’re heading to Game of Throwing to connect with our inner Vikings! Open to all male Carers aged 17+Please note: All our events are for unpaid Carers registered with Stirling Carers Centre. If you are a Carer and not yet registered with the Centre\, please contact us on 01786 447003.
URL:https://stirlingcarers.org.uk/whats-on/male-carers-group-axe-throwing/
CATEGORIES:Adult Carer Events,Parent Carer Events,Young Adult Carer Events
END:VEVENT
BEGIN:VEVENT
DTSTART;TZID=Europe/London:20240523T180000
DTEND;TZID=Europe/London:20240523T200000
DTSTAMP:20260424T033514
CREATED:20240721T205717Z
LAST-MODIFIED:20240721T205717Z
UID:10000025-1716487200-1716494400@stirlingcarers.org.uk
SUMMARY:My Time – Cheesecake Workshop
DESCRIPTION:My Time is our programme of monthly evening activities. For our May session\, we’re having a go at making some delicious cheesecakes to take home and enjoy. Snacks and drinks provided.Please note: All our events are for unpaid Carers registered with Stirling Carers Centre. If you are a Carer and not yet registered with the Centre\, please contact us on 01786 447003.
URL:https://stirlingcarers.org.uk/whats-on/my-time-cheesecake-workshop/
CATEGORIES:Adult Carer Events,Young Adult Carer Events
ATTACH;FMTTYPE=image/png:https://stirlingcarers.org.uk/wp-content/uploads/2024/07/Last-Thursday-of-the-month-6-8pm-VJm4Mn.tmp_.png
END:VEVENT
BEGIN:VEVENT
DTSTART;TZID=Europe/London:20240507T140000
DTEND;TZID=Europe/London:20240507T160000
DTSTAMP:20260424T033514
CREATED:20240721T205717Z
LAST-MODIFIED:20240721T205717Z
UID:10000024-1715090400-1715097600@stirlingcarers.org.uk
SUMMARY:Male Carers Group – Pool
DESCRIPTION:For our May Male Carers group we’re heading to Hollywood Bowl for some games of pool. Soft drinks provided. Open to all male Carers aged 17+Please note: All our events are for unpaid Carers registered with Stirling Carers Centre. If you are a Carer and not yet registered with the Centre\, please contact us on 01786 447003.
URL:https://stirlingcarers.org.uk/whats-on/male-carers-group-pool/
CATEGORIES:Adult Carer Events,Parent Carer Events,Young Adult Carer Events
END:VEVENT
BEGIN:VEVENT
DTSTART;TZID=Europe/London:20240419T101000
DTEND;TZID=Europe/London:20240419T113000
DTSTAMP:20260424T033514
CREATED:20240721T205916Z
LAST-MODIFIED:20240721T205916Z
UID:10000026-1713521400-1713526200@stirlingcarers.org.uk
SUMMARY:Cuppa Chat
DESCRIPTION:Join us for our monthly Cuppa Chat session. This month there is a chance to discuss issues affecting local Carers.Please note: All our events are for unpaid Carers registered with Stirling Carers Centre only. If you are a Carer and not yet registered with the Centre\, please contact us on 01786 447003.
URL:https://stirlingcarers.org.uk/whats-on/cuppa-chat-2/
CATEGORIES:Adult Carer Events,Former Carer Events,Parent Carer Events,Young Adult Carer Events
END:VEVENT
BEGIN:VEVENT
DTSTART;TZID=Europe/London:20240418T180000
DTEND;TZID=Europe/London:20240418T200000
DTSTAMP:20260424T033514
CREATED:20240721T205918Z
LAST-MODIFIED:20240721T205918Z
UID:10000029-1713463200-1713470400@stirlingcarers.org.uk
SUMMARY:My Time – Axe Throwing
DESCRIPTION:Unleash your inner warrior at our April My Time event when we’re going to Game of Throwing in Stirling for an evening of axe throwing.Please note: All our events are for unpaid Carers registered with Stirling Carers Centre. If you are a Carer and not yet registered with the Centre\, please contact us on 01786 447003.
URL:https://stirlingcarers.org.uk/whats-on/my-time-axe-throwing/
CATEGORIES:Adult Carer Events,Young Adult Carer Events
ATTACH;FMTTYPE=image/png:https://stirlingcarers.org.uk/wp-content/uploads/2024/07/Last-Thursday-of-the-month-6-8pm-VJm4Mn.tmp_.png
END:VEVENT
BEGIN:VEVENT
DTSTART;TZID=Europe/London:20240402T140000
DTEND;TZID=Europe/London:20240402T153000
DTSTAMP:20260424T033514
CREATED:20240721T205917Z
LAST-MODIFIED:20240721T205917Z
UID:10000028-1712066400-1712071800@stirlingcarers.org.uk
SUMMARY:Male Carers Group – Castle tour
DESCRIPTION:Join us for a tour around Stirling Castle for our April group.  Meet at the castle at 2pm. Open to all male Carers aged 17+Please note: All our events are for unpaid Carers registered with Stirling Carers Centre. If you are a Carer and not yet registered with the Centre\, please contact us on 01786 447003.
URL:https://stirlingcarers.org.uk/whats-on/male-carers-group-castle-tour/
CATEGORIES:Adult Carer Events,Parent Carer Events,Young Adult Carer Events
END:VEVENT
BEGIN:VEVENT
DTSTART;TZID=Europe/London:20240328T193000
DTEND;TZID=Europe/London:20240328T220000
DTSTAMP:20260424T033514
CREATED:20240721T210106Z
LAST-MODIFIED:20240721T210106Z
UID:10000035-1711654200-1711663200@stirlingcarers.org.uk
SUMMARY:My Time – 9 to 5 The Musical
DESCRIPTION:We’re off to the theatre for our March My Time. Join us at Macrobert Centre for Stirling & Bridge of Allan Operatic Society’s performance of 9 to 5 The Musical\, written by Dolly Parton.Due to demand\, this event is waitlisted. Please register and a member of the team will be in contact in advance of the events to let you know if there is a place available.\nPlease note: All our events are for unpaid Carers registered with Stirling Carers Centre. If you are a Carer and not yet registered with the Centre\, please contact us on 01786 447003.
URL:https://stirlingcarers.org.uk/whats-on/my-time-9-to-5-the-musical/
CATEGORIES:Adult Carer Events,Young Adult Carer Events
ATTACH;FMTTYPE=image/png:https://stirlingcarers.org.uk/wp-content/uploads/2024/07/Last-Thursday-of-the-month-6-8pm-VJm4Mn.tmp_.png
END:VEVENT
BEGIN:VEVENT
DTSTART;TZID=Europe/London:20240207T140000
DTEND;TZID=Europe/London:20240207T153000
DTSTAMP:20260424T033514
CREATED:20240721T210106Z
LAST-MODIFIED:20240721T210106Z
UID:10000034-1707314400-1707319800@stirlingcarers.org.uk
SUMMARY:Male Carers Group – Bowling
DESCRIPTION:Please note: All our events are for unpaid Carers registered with Stirling Carers Centre. If you are a Carer and not yet registered with the Centre\, please contact us on 01786 447003.
URL:https://stirlingcarers.org.uk/whats-on/male-carers-group-bowling/
CATEGORIES:Adult Carer Events,Parent Carer Events,Young Adult Carer Events
END:VEVENT
BEGIN:VEVENT
DTSTART;TZID=Europe/London:20231106T103000
DTEND;TZID=Europe/London:20231106T120000
DTSTAMP:20260424T033514
CREATED:20240721T210120Z
LAST-MODIFIED:20240721T210120Z
UID:10000038-1699266600-1699272000@stirlingcarers.org.uk
SUMMARY:CHAT – Falls Awareness
DESCRIPTION:Come along to our November CHAT (Carer Health & Training) session to hear from the NHS about how to minimise fall risks. You’re welcome to bring along the person you care for if that makes it easier for you to attend – please book a space for each attendee.Please note: All our events are for unpaid Carers registered with Stirling Carers Centre. If you are a Carer and not yet registered with the Centre\, please contact us on 01786 447003.
URL:https://stirlingcarers.org.uk/whats-on/chat-falls-awareness/
CATEGORIES:Adult Carer Events,Parent Carer Events,Young Adult Carer Events
END:VEVENT
BEGIN:VEVENT
DTSTART;TZID=Europe/London:20231031T103000
DTEND;TZID=Europe/London:20231031T120000
DTSTAMP:20260424T033514
CREATED:20240721T210120Z
LAST-MODIFIED:20240721T210120Z
UID:10000039-1698748200-1698753600@stirlingcarers.org.uk
SUMMARY:SDS (Self-directed Support) Options for Parent Carers
DESCRIPTION:If you are caring for a child who has been given a social care budget (Self-Directed Support) it can be a daunting thing. SDS Forth Valley is a specialist support service for anyone managing an SDS budget. Come along to find out more about your options and the support available. Light refreshments provided.Please note: All our events are for unpaid Carers registered with Stirling Carers Centre. If you are a Carer and not yet registered with the Centre\, please contact us on 01786 447003.
URL:https://stirlingcarers.org.uk/whats-on/sds-self-directed-support-options-for-parent-carers/
CATEGORIES:Parent Carer Events,Young Adult Carer Events
END:VEVENT
BEGIN:VEVENT
DTSTART;TZID=Europe/London:20230928T180000
DTEND;TZID=Europe/London:20230928T200000
DTSTAMP:20260424T033514
CREATED:20240721T210319Z
LAST-MODIFIED:20240721T210319Z
UID:10000041-1695924000-1695931200@stirlingcarers.org.uk
SUMMARY:My Time – Pamper Session
DESCRIPTION:Ruby’s Nail Bar will be at our October My Time session. Come along for an evening of pampering. Light refreshments provided.Registering for this event does not guarantee a place. A member of our team will be in touch to confirm if a place is available.\nPlease note: All our events are for unpaid Carers registered with Stirling Carers Centre. If you are a Carer and not yet registered with the Centre\, please contact us on 01786 447003.
URL:https://stirlingcarers.org.uk/whats-on/my-time-pamper-session/
CATEGORIES:Adult Carer Events,Young Adult Carer Events
ATTACH;FMTTYPE=image/png:https://stirlingcarers.org.uk/wp-content/uploads/2024/07/Last-Thursday-of-the-month-6-8pm-VJm4Mn.tmp_.png
END:VEVENT
BEGIN:VEVENT
DTSTART;TZID=Europe/London:20230831T100000
DTEND;TZID=Europe/London:20230831T123000
DTSTAMP:20260424T033514
CREATED:20240721T210321Z
LAST-MODIFIED:20240721T210321Z
UID:10000043-1693476000-1693485000@stirlingcarers.org.uk
SUMMARY:Stirling Carers’ Voice – CANCELLED
DESCRIPTION:Stirling Carers’ Voice is the local forum for Carers to meet with professionals and decision-makers to hear about proposals\, feed into consultations\, and get across the point of view of Carers at both a local and national level.The forum is open to Carers and former Carers aged 18+. You don’t need any experience or skills\, just an understanding of what it means to be a Carer and ideas on how to make things better. We’d love to see you there.\nNext Meeting:\nThursday 31st August\, 10am-12.30pm CANCELLED
URL:https://stirlingcarers.org.uk/whats-on/stirling-carers-voice-cancelled/
CATEGORIES:Adult Carer Events,Former Carer Events,Parent Carer Events,Professionals Events,Young Adult Carer Events
ATTACH;FMTTYPE=image/png:https://stirlingcarers.org.uk/wp-content/uploads/2024/07/Carers-Voice-Pc7PyC.tmp_.png
END:VEVENT
BEGIN:VEVENT
DTSTART;TZID=Europe/London:20230822T090000
DTEND;TZID=Europe/London:20230822T160000
DTSTAMP:20260424T033514
CREATED:20240721T210120Z
LAST-MODIFIED:20240721T210120Z
UID:10000040-1692694800-1692720000@stirlingcarers.org.uk
SUMMARY:V&A Museum Trip
DESCRIPTION:We’re off to Dundee to visit the V&A Museum and tour the Tartan Exhibition. Transport from Stirling and lunch included\, and you are welcome to bring along the person you care for. Please register the number of places you require.Meet at Forthside Car Park (by Vue cinema) at 9 am for bus pick up\, returning at 4 pm.\nPlease note: All our events are for unpaid Carers registered with Stirling Carers Centre. If you are a Carer and not yet registered with the Centre\, please contact us on 01786 447003. If you have any concerns about the suitability of this trip for the person that you care for\, please contact Beth at the Centre.
URL:https://stirlingcarers.org.uk/whats-on/va-museum-trip/
CATEGORIES:Adult Carer Events
END:VEVENT
BEGIN:VEVENT
DTSTART;TZID=Europe/London:20230703T131500
DTEND;TZID=Europe/London:20230703T140000
DTSTAMP:20260424T033514
CREATED:20240721T210323Z
LAST-MODIFIED:20240721T210323Z
UID:10000045-1688390100-1688392800@stirlingcarers.org.uk
SUMMARY:Stirling/Online Yoga
DESCRIPTION:The Yoga Tree in Stirling offers free yoga and relaxation sessions to anyone currently in a caring role. The sessions take place every Monday afternoon\, either in person at The Yoga Tree in King Street\, Stirling\, or on Zoom.Book to attend
URL:https://stirlingcarers.org.uk/whats-on/stirling-online-yoga-2/
CATEGORIES:Adult Carer Events,Young Adult Carer Events
ATTACH;FMTTYPE=image/png:https://stirlingcarers.org.uk/wp-content/uploads/2024/07/Stirling-yoga-Facebook-Event-Cover-VN9y2L.tmp_.png
END:VEVENT
END:VCALENDAR