BEGIN:VCALENDAR
VERSION:2.0
PRODID:-//Stirling Carers Centre - ECPv6.15.10//NONSGML v1.0//EN
CALSCALE:GREGORIAN
METHOD:PUBLISH
X-ORIGINAL-URL:https://stirlingcarers.org.uk
X-WR-CALDESC:Events for Stirling Carers Centre
REFRESH-INTERVAL;VALUE=DURATION:PT1H
X-Robots-Tag:noindex
X-PUBLISHED-TTL:PT1H
BEGIN:VTIMEZONE
TZID:Europe/London
BEGIN:DAYLIGHT
TZOFFSETFROM:+0000
TZOFFSETTO:+0100
TZNAME:BST
DTSTART:20230326T010000
END:DAYLIGHT
BEGIN:STANDARD
TZOFFSETFROM:+0100
TZOFFSETTO:+0000
TZNAME:GMT
DTSTART:20231029T010000
END:STANDARD
BEGIN:DAYLIGHT
TZOFFSETFROM:+0000
TZOFFSETTO:+0100
TZNAME:BST
DTSTART:20240331T010000
END:DAYLIGHT
BEGIN:STANDARD
TZOFFSETFROM:+0100
TZOFFSETTO:+0000
TZNAME:GMT
DTSTART:20241027T010000
END:STANDARD
BEGIN:DAYLIGHT
TZOFFSETFROM:+0000
TZOFFSETTO:+0100
TZNAME:BST
DTSTART:20250330T010000
END:DAYLIGHT
BEGIN:STANDARD
TZOFFSETFROM:+0100
TZOFFSETTO:+0000
TZNAME:GMT
DTSTART:20251026T010000
END:STANDARD
END:VTIMEZONE
BEGIN:VEVENT
DTSTART;VALUE=DATE:20240627
DTEND;VALUE=DATE:20240628
DTSTAMP:20260422T004456
CREATED:20240721T205500Z
LAST-MODIFIED:20240721T205500Z
UID:10000010-1719446400-1719532799@stirlingcarers.org.uk
SUMMARY:Stirling Carers’ Voice
DESCRIPTION:Stirling Carers’ Voice is the local forum for Carers to meet with professionals and decision-makers to hear about proposals\, feed into consultations\, and get across the point of view of Carers at both a local and national level.The forum is open to Carers and former Carers aged 18+. You don’t need any experience or skills\, just an understanding of what it means to be a Carer and ideas on how to make things better. We’d love to see you there.\nNext Meeting:\nThursday 27th June\, 10.30am – 12.30pm\, Bannockburn Enterprise Hub (next to Jintz Express)\nThis session will be a consultation event to find out what you want to see at the group going forward and how we can improve it to better meet your needs.
URL:https://stirlingcarers.org.uk/whats-on/stirling-carers-voice/
CATEGORIES:Adult Carer Events,Former Carer Events,Parent Carer Events,Professionals Events,Young Adult Carer Events
ATTACH;FMTTYPE=image/png:https://stirlingcarers.org.uk/wp-content/uploads/2024/07/Carers-Voice-Pc7PyC.tmp_.png
END:VEVENT
END:VCALENDAR