BEGIN:VCALENDAR
VERSION:2.0
PRODID:-//Stirling Carers Centre - ECPv6.15.10//NONSGML v1.0//EN
CALSCALE:GREGORIAN
METHOD:PUBLISH
X-WR-CALNAME:Stirling Carers Centre
X-ORIGINAL-URL:https://stirlingcarers.org.uk
X-WR-CALDESC:Events for Stirling Carers Centre
REFRESH-INTERVAL;VALUE=DURATION:PT1H
X-Robots-Tag:noindex
X-PUBLISHED-TTL:PT1H
BEGIN:VTIMEZONE
TZID:Europe/London
BEGIN:DAYLIGHT
TZOFFSETFROM:+0000
TZOFFSETTO:+0100
TZNAME:BST
DTSTART:20240331T010000
END:DAYLIGHT
BEGIN:STANDARD
TZOFFSETFROM:+0100
TZOFFSETTO:+0000
TZNAME:GMT
DTSTART:20241027T010000
END:STANDARD
BEGIN:DAYLIGHT
TZOFFSETFROM:+0000
TZOFFSETTO:+0100
TZNAME:BST
DTSTART:20250330T010000
END:DAYLIGHT
BEGIN:STANDARD
TZOFFSETFROM:+0100
TZOFFSETTO:+0000
TZNAME:GMT
DTSTART:20251026T010000
END:STANDARD
BEGIN:DAYLIGHT
TZOFFSETFROM:+0000
TZOFFSETTO:+0100
TZNAME:BST
DTSTART:20260329T010000
END:DAYLIGHT
BEGIN:STANDARD
TZOFFSETFROM:+0100
TZOFFSETTO:+0000
TZNAME:GMT
DTSTART:20261025T010000
END:STANDARD
END:VTIMEZONE
BEGIN:VEVENT
DTSTART;TZID=Europe/London:20250923T170000
DTEND;TZID=Europe/London:20250923T190000
DTSTAMP:20260421T115715
CREATED:20250821T081652Z
LAST-MODIFIED:20250919T131421Z
UID:10003346-1758646800-1758654000@stirlingcarers.org.uk
SUMMARY:Parent Carers: Family Bowling Night - FULLY BOOKED
DESCRIPTION:Test your skills on the lanes at our family bowling night at Hollywood Bowl in Stirling. Food and drinks provided. Recommended for ages 8+. Open to Parent Carers and their families. \nPlease note: All our events are for unpaid Carers registered with Stirling Carers Centre. If you are a Carer and not yet registered with the Centre\, please contact us on 01786 447003. \n 
URL:https://stirlingcarers.org.uk/whats-on/parent-carers-family-bowling-night/
LOCATION:Hollywood Bowl\, Forth St\, Stirling\, FK8 1UE
CATEGORIES:Parent Carer Events
ATTACH;FMTTYPE=image/png:https://stirlingcarers.org.uk/wp-content/uploads/2025/08/Parent-Carers-Bowling.png
ORGANIZER;CN="Stirling Carers Centre":MAILTO:info@stirlingcarers.org.uk
END:VEVENT
END:VCALENDAR